BEGIN:VCALENDAR
VERSION:2.0
PRODID:-//RegioTicker//AgendaService//EN
METHOD:REQUEST
NAME:Event Calendar
X-WR-CALNAME:Event Calendar
TIMEZONE-ID:Europe/Zurich
X-WR-TIMEZONE:Europe/Zurich
BEGIN:VEVENT
UID:0916ffbc-f2c7-4a82-8a77-256ee5255abd
SEQUENCE:0
DTSTAMP:20260420T042247
DTSTART:20260516T130000
DTEND:20260516T170000
SUMMARY:Öffentlicher Fahrnachmittag
LOCATION:Clubhaus an der Hofstetstrasse 11a
DESCRIPTION:Erleben Sie die faszinierende Welt der Modelleisenbahnen beim 
 öffentlichen Fahrnachmittag des Modelleisenbahn-Club Wittenbach-Kronbühl
  mit vielfältigen Anlagen\, Kaffeestübli und freiem Eintritt.
URL;VALUE=URI:https://regioticker.vercel.app/article/a2684381-af95-4b75-84
 d0-61e3c36aa28a
CREATED:20260419T212512
LAST-MODIFIED:20260419T214401
END:VEVENT
END:VCALENDAR