BEGIN:VCALENDAR
VERSION:2.0
PRODID:-//RegioTicker//AgendaService//EN
METHOD:REQUEST
NAME:Event Calendar
X-WR-CALNAME:Event Calendar
TIMEZONE-ID:Europe/Zurich
X-WR-TIMEZONE:Europe/Zurich
BEGIN:VEVENT
UID:6503213f-244a-4cf7-968f-7d292ff89793
SEQUENCE:0
DTSTAMP:20260421T193958
DTSTART:20260513T180000
DTEND:20260516T235900
SUMMARY:Das Spring Festival 2026
LOCATION:Areal hinter dem Lidl in Wittenbach
DESCRIPTION:Vier Tage voller Highlights und Partystimmung mit Comedy\, Sch
 lagerstars und 90er-Kult.
URL;VALUE=URI:https://regioticker.vercel.app/article/h
CREATED:20260421T090124
LAST-MODIFIED:20260421T174605
END:VEVENT
END:VCALENDAR