BEGIN:VCALENDAR
VERSION:2.0
PRODID:-//RegioTicker//AgendaService//EN
METHOD:REQUEST
NAME:Event Calendar
X-WR-CALNAME:Event Calendar
TIMEZONE-ID:Europe/Zurich
X-WR-TIMEZONE:Europe/Zurich
BEGIN:VEVENT
UID:03366ec2-546e-4939-a984-069c724fa93b
SEQUENCE:0
DTSTAMP:20260420T174641
DTSTART:20260426T140000
DTEND:20260426T150000
SUMMARY:Ständli des Tenobras Chors
LOCATION:Turnhalle Bünt in Waldkirch
DESCRIPTION:Der Tenobras Chor präsentiert ein vielfältiges Repertoire be
 i freiem Eintritt im Rahmen der Gewerbeschau Waldkirch-Bernhardzell.
URL;VALUE=URI:https://regioticker.vercel.app/article/h
CREATED:20260420T140313
LAST-MODIFIED:20260420T153057
END:VEVENT
END:VCALENDAR